BEGIN:VCALENDAR
VERSION:2.0
PRODID:-//https://www.redwoodlodge35.com///NONSGML kigkonsult.se iCalcreator 2.10.15//
METHOD:PUBLISH
BEGIN:VEVENT
UID:20260423T172859UTC-3950VS14kR@https://www.redwoodlodge35.com/
DTSTAMP:20260423T172859Z
DESCRIPTION: https://www.redwoodlodge35.com/calendar/event/82-dd-visitation
 -to-logia-libertad-ud
DTSTART:20250302T001500Z
DTEND:20250302T020000Z
LOCATION:Grand Lodge (222 Taunton Avenue\, East Providence\, RI 02914\, USA
 )
SUMMARY:DD Visitation To Logia Libertad\, UD
URL:https://www.redwoodlodge35.com/calendar/event/82-dd-visitation-to-logia
 -libertad-ud
END:VEVENT
END:VCALENDAR
