BEGIN:VCALENDAR
VERSION:2.0
PRODID:-//https://www.redwoodlodge35.com///NONSGML kigkonsult.se iCalcreator 2.10.15//
METHOD:PUBLISH
BEGIN:VEVENT
UID:20260423T172706UTC-8490GzG8sT@https://www.redwoodlodge35.com/
DTSTAMP:20260423T172706Z
DESCRIPTION: https://www.redwoodlodge35.com/calendar/event/69-gm-visitation
 -central-district-ionic-lodge-28
DTSTART:20250120T001500Z
DTEND:20250120T020000Z
LOCATION:Manchester Lodge (585 Washington St\, Coventry\, RI 02816\, USA)
SUMMARY:GM Visitation Central District: Ionic Lodge #28
URL:https://www.redwoodlodge35.com/calendar/event/69-gm-visitation-central-
 district-ionic-lodge-28
END:VEVENT
END:VCALENDAR
