BEGIN:VCALENDAR
VERSION:2.0
PRODID:-//https://www.redwoodlodge35.com///NONSGML kigkonsult.se iCalcreator 2.10.15//
METHOD:PUBLISH
BEGIN:VEVENT
UID:20260423T172827UTC-64619ew8PI@https://www.redwoodlodge35.com/
DTSTAMP:20260423T172827Z
DESCRIPTION: https://www.redwoodlodge35.com/calendar/event/4-dd-visitation-
 to-rising-sun-30
DTSTART:20241021T231500Z
DTEND:20241022T010000Z
LOCATION:Rising Sun Lodge (222 Taunton Avenue\, East Providence\, RI 02914\
 , USA)
SUMMARY:DD Visitation To Rising Sun #30
URL:https://www.redwoodlodge35.com/calendar/event/4-dd-visitation-to-rising
 -sun-30
END:VEVENT
END:VCALENDAR
