BEGIN:VCALENDAR
VERSION:2.0
PRODID:-//https://www.redwoodlodge35.com///NONSGML kigkonsult.se iCalcreator 2.10.15//
METHOD:PUBLISH
BEGIN:VEVENT
UID:20260423T172931UTC-7529u99Igw@https://www.redwoodlodge35.com/
DTSTAMP:20260423T172931Z
DESCRIPTION: https://www.redwoodlodge35.com/calendar/event/2-gm-visitation-
 mt-moriah-lafayette-lodge
DTSTART:20260228T000000Z
DTEND:20260228T020000Z
LOCATION:Lafayette Lodge (680 Nate Whipple Hwy\, Cumberland\, RI 02864\, US
 A)
SUMMARY:GM Visitation Mt Moriah: lafayette Lodge
URL:https://www.redwoodlodge35.com/calendar/event/2-gm-visitation-mt-moriah
 -lafayette-lodge
END:VEVENT
END:VCALENDAR
