BEGIN:VCALENDAR
VERSION:2.0
PRODID:-//https://www.redwoodlodge35.com///NONSGML kigkonsult.se iCalcreator 2.10.15//
METHOD:PUBLISH
BEGIN:VEVENT
UID:20260423T172859UTC-2441mZagFz@https://www.redwoodlodge35.com/
DTSTAMP:20260423T172859Z
DESCRIPTION: https://www.redwoodlodge35.com/calendar/event/18-dd-visitation
 -to-overseas-lodge-40
DTSTART:20250408T231500Z
DTEND:20250409T010000Z
LOCATION:Overseas Lodge #40 (2115 Broad Street\, Cranston\, RI 02905\, USA)
SUMMARY:DD Visitation To Overseas Lodge #40
URL:https://www.redwoodlodge35.com/calendar/event/18-dd-visitation-to-overs
 eas-lodge-40
END:VEVENT
END:VCALENDAR
