BEGIN:VCALENDAR
VERSION:2.0
PRODID:-//https://www.redwoodlodge35.com///NONSGML kigkonsult.se iCalcreator 2.10.15//
METHOD:PUBLISH
BEGIN:VEVENT
UID:20260423T172707UTC-1553F7IVIi@https://www.redwoodlodge35.com/
DTSTAMP:20260423T172707Z
DESCRIPTION: https://www.redwoodlodge35.com/calendar/event/1-regular-commun
 ication3-gm-visitation-metro-district
DTSTART:20241009T231500Z
DTEND:20241010T010000Z
LOCATION:Rising Sun Lodge (222 Taunton Avenue\, East Providence\, RI 02914\
 , USA)
SUMMARY:Regular Communication3 | GM Visitation Metro District
URL:https://www.redwoodlodge35.com/calendar/event/1-regular-communication3-
 gm-visitation-metro-district
END:VEVENT
END:VCALENDAR
